BEGIN:VCALENDAR
VERSION:2.0
PRODID:-//www.zootownarts.org//NONSGML kigkonsult.se iCalcreator 2.30.10//
CALSCALE:GREGORIAN
METHOD:PUBLISH
UID:9ca77f0a-4a35-43f5-b66f-a4b29045a95a
X-WR-CALDESC:
X-WR-RELCALID:632d37c3dc5b7e91f91ca849a808f12f
X-WR-TIMEZONE:America/Denver
BEGIN:VTIMEZONE
TZID:America/Denver
BEGIN:STANDARD
TZNAME:MST
DTSTART:20231105T020000
TZOFFSETFROM:-0600
TZOFFSETTO:-0700
RDATE:20241103T020000
RDATE:20251102T020000
END:STANDARD
BEGIN:DAYLIGHT
TZNAME:MDT
DTSTART:20240310T020000
TZOFFSETFROM:-0700
TZOFFSETTO:-0600
RDATE:20250309T020000
END:DAYLIGHT
END:VTIMEZONE
BEGIN:VEVENT
UID:5ff774cd-cf95-403c-b983-2bb56edeead1
DTSTAMP:20260421T081745Z
DESCRIPTION:
DTSTART;TZID=America/Denver:20240831T130000
DTEND;TZID=America/Denver:20240831T160000
LOCATION:
SUMMARY:Performance
END:VEVENT
END:VCALENDAR
