BEGIN:VCALENDAR
VERSION:2.0
PRODID:-//www.zootownarts.org//NONSGML kigkonsult.se iCalcreator 2.30.10//
CALSCALE:GREGORIAN
METHOD:PUBLISH
UID:6a720efc-4dae-48f7-a438-a70dcb91ace0
X-WR-CALDESC:
X-WR-RELCALID:db45555755cebdb2ac5f060921f39899
X-WR-TIMEZONE:America/Denver
BEGIN:VTIMEZONE
TZID:America/Denver
BEGIN:STANDARD
TZNAME:MST
DTSTART:20231105T020000
TZOFFSETFROM:-0600
TZOFFSETTO:-0700
RDATE:20241103T020000
RDATE:20251102T020000
END:STANDARD
BEGIN:DAYLIGHT
TZNAME:MDT
DTSTART:20240310T020000
TZOFFSETFROM:-0700
TZOFFSETTO:-0600
RDATE:20250309T020000
END:DAYLIGHT
END:VTIMEZONE
BEGIN:VEVENT
UID:653f3d04-0c57-49a6-b6c4-5edf83a4e1ea
DTSTAMP:20260421T081817Z
DESCRIPTION:
DTSTART;TZID=America/Denver:20240827T190000
DTEND;TZID=America/Denver:20240827T230000
LOCATION:
SUMMARY:Performance
END:VEVENT
END:VCALENDAR
