BEGIN:VCALENDAR
VERSION:2.0
PRODID:-//www.zootownarts.org//NONSGML kigkonsult.se iCalcreator 2.30.10//
CALSCALE:GREGORIAN
METHOD:PUBLISH
UID:29af4900-0d28-4c50-abd9-55deb900a9c5
X-WR-CALDESC:
X-WR-RELCALID:c2f7b0c62d9d24d54f8c4a099b0777f9
X-WR-TIMEZONE:America/Denver
BEGIN:VTIMEZONE
TZID:America/Denver
BEGIN:STANDARD
TZNAME:MST
DTSTART:20231105T020000
TZOFFSETFROM:-0600
TZOFFSETTO:-0700
RDATE:20241103T020000
RDATE:20251102T020000
END:STANDARD
BEGIN:DAYLIGHT
TZNAME:MDT
DTSTART:20240310T020000
TZOFFSETFROM:-0700
TZOFFSETTO:-0600
RDATE:20250309T020000
END:DAYLIGHT
END:VTIMEZONE
BEGIN:VEVENT
UID:341c0d4e-39df-4896-821e-9aae4a60f881
DTSTAMP:20260421T081329Z
DESCRIPTION:
DTSTART;TZID=America/Denver:20240821T190000
DTEND;TZID=America/Denver:20240821T230000
LOCATION:
SUMMARY:Performance
END:VEVENT
END:VCALENDAR
