BEGIN:VCALENDAR
VERSION:2.0
PRODID:-//www.zootownarts.org//NONSGML kigkonsult.se iCalcreator 2.30.10//
CALSCALE:GREGORIAN
METHOD:PUBLISH
UID:96bf53d1-94b1-48b2-bc5b-a323a524fa29
X-WR-CALDESC:
X-WR-RELCALID:8e2133fdec45ccfaba17975b1f70333e
X-WR-TIMEZONE:America/Denver
BEGIN:VTIMEZONE
TZID:America/Denver
BEGIN:STANDARD
TZNAME:MST
DTSTART:20231105T020000
TZOFFSETFROM:-0600
TZOFFSETTO:-0700
RDATE:20241103T020000
RDATE:20251102T020000
END:STANDARD
BEGIN:DAYLIGHT
TZNAME:MDT
DTSTART:20240310T020000
TZOFFSETFROM:-0700
TZOFFSETTO:-0600
RDATE:20250309T020000
END:DAYLIGHT
END:VTIMEZONE
BEGIN:VEVENT
UID:f05f3319-3ab0-4e5f-b72b-2259450919a1
DTSTAMP:20260421T082725Z
DESCRIPTION:
DTSTART;TZID=America/Denver:20240818T160000
DTEND;TZID=America/Denver:20240818T220000
LOCATION:
SUMMARY:Rental
END:VEVENT
END:VCALENDAR
