BEGIN:VCALENDAR
VERSION:2.0
PRODID:-//www.zootownarts.org//NONSGML kigkonsult.se iCalcreator 2.30.10//
CALSCALE:GREGORIAN
METHOD:PUBLISH
UID:63de4c03-28c1-4902-ad43-8769c0741b34
X-WR-CALDESC:
X-WR-RELCALID:b5b8b996639990ade90ef426ec17bfb7
X-WR-TIMEZONE:America/Denver
BEGIN:VTIMEZONE
TZID:America/Denver
BEGIN:STANDARD
TZNAME:MST
DTSTART:20231105T020000
TZOFFSETFROM:-0600
TZOFFSETTO:-0700
RDATE:20241103T020000
RDATE:20251102T020000
END:STANDARD
BEGIN:DAYLIGHT
TZNAME:MDT
DTSTART:20240310T020000
TZOFFSETFROM:-0700
TZOFFSETTO:-0600
RDATE:20250309T020000
END:DAYLIGHT
END:VTIMEZONE
BEGIN:VEVENT
UID:7f21d399-70cf-4581-9903-bde3926ec462
DTSTAMP:20260421T082654Z
DESCRIPTION:
DTSTART;TZID=America/Denver:20240817T170000
DTEND;TZID=America/Denver:20240817T230000
LOCATION:
SUMMARY:Rental
END:VEVENT
END:VCALENDAR
