BEGIN:VCALENDAR
VERSION:2.0
PRODID:-//www.zootownarts.org//NONSGML kigkonsult.se iCalcreator 2.30.10//
CALSCALE:GREGORIAN
METHOD:PUBLISH
UID:f4d0372a-3915-4488-a3f0-0947899c89f5
X-WR-CALDESC:
X-WR-RELCALID:5aae69b5381370c3f0d117d75af6cc4e
X-WR-TIMEZONE:America/Denver
BEGIN:VTIMEZONE
TZID:America/Denver
BEGIN:STANDARD
TZNAME:MST
DTSTART:20231105T020000
TZOFFSETFROM:-0600
TZOFFSETTO:-0700
RDATE:20241103T020000
RDATE:20251102T020000
END:STANDARD
BEGIN:DAYLIGHT
TZNAME:MDT
DTSTART:20240310T020000
TZOFFSETFROM:-0700
TZOFFSETTO:-0600
RDATE:20250309T020000
END:DAYLIGHT
END:VTIMEZONE
BEGIN:VEVENT
UID:05f5e716-9905-41ea-9fd1-2ec4f2c6ae77
DTSTAMP:20260421T081519Z
DESCRIPTION:
DTSTART;TZID=America/Denver:20240807T190000
DTEND;TZID=America/Denver:20240807T230000
LOCATION:
SUMMARY:Performance
END:VEVENT
END:VCALENDAR
