BEGIN:VCALENDAR
VERSION:2.0
PRODID:-//www.zootownarts.org//NONSGML kigkonsult.se iCalcreator 2.30.10//
CALSCALE:GREGORIAN
METHOD:PUBLISH
UID:443fa060-a69e-4510-8359-e6f8769fad7a
X-WR-CALDESC:
X-WR-RELCALID:ac3207a7194f95b66f1eaf44d7d5a6b6
X-WR-TIMEZONE:America/Denver
BEGIN:VTIMEZONE
TZID:America/Denver
BEGIN:STANDARD
TZNAME:MST
DTSTART:20231105T020000
TZOFFSETFROM:-0600
TZOFFSETTO:-0700
RDATE:20241103T020000
RDATE:20251102T020000
END:STANDARD
BEGIN:DAYLIGHT
TZNAME:MDT
DTSTART:20240310T020000
TZOFFSETFROM:-0700
TZOFFSETTO:-0600
RDATE:20250309T020000
END:DAYLIGHT
END:VTIMEZONE
BEGIN:VEVENT
UID:8610bc96-b546-4e52-8ed7-f716a67e701d
DTSTAMP:20260421T081454Z
DESCRIPTION:
DTSTART;TZID=America/Denver:20240802T190000
DTEND;TZID=America/Denver:20240802T230000
LOCATION:
SUMMARY:Performance
END:VEVENT
END:VCALENDAR
