BEGIN:VCALENDAR
VERSION:2.0
PRODID:-//www.zootownarts.org//NONSGML kigkonsult.se iCalcreator 2.30.10//
CALSCALE:GREGORIAN
METHOD:PUBLISH
UID:f6a7903f-95e3-4ef0-a2e6-5ace741fcf69
X-WR-CALDESC:
X-WR-RELCALID:d07941f76dcb27c2a18d14eb092815a8
X-WR-TIMEZONE:America/Denver
BEGIN:VTIMEZONE
TZID:America/Denver
BEGIN:STANDARD
TZNAME:MST
DTSTART:20231105T020000
TZOFFSETFROM:-0600
TZOFFSETTO:-0700
RDATE:20241103T020000
RDATE:20251102T020000
END:STANDARD
BEGIN:DAYLIGHT
TZNAME:MDT
DTSTART:20240310T020000
TZOFFSETFROM:-0700
TZOFFSETTO:-0600
RDATE:20250309T020000
END:DAYLIGHT
END:VTIMEZONE
BEGIN:VEVENT
UID:6b49dac3-3d04-40db-b19c-a580b7386493
DTSTAMP:20260419T142344Z
DESCRIPTION:
DTSTART;TZID=America/Denver:20240714T190000
DTEND;TZID=America/Denver:20240714T230000
LOCATION:
SUMMARY:Performance
END:VEVENT
END:VCALENDAR
